BEGIN:VCALENDAR
VERSION:2.0
PRODID:-//Wellington Radio Yacht Club - ECPv4.9.13//NONSGML v1.0//EN
CALSCALE:GREGORIAN
METHOD:PUBLISH
X-WR-CALNAME:Wellington Radio Yacht Club
X-ORIGINAL-URL:http://wryc.org.nz
X-WR-CALDESC:Events for Wellington Radio Yacht Club
BEGIN:VTIMEZONE
TZID:Pacific/Auckland
BEGIN:STANDARD
TZOFFSETFROM:+1300
TZOFFSETTO:+1200
TZNAME:NZST
DTSTART:20190406T140000
END:STANDARD
BEGIN:DAYLIGHT
TZOFFSETFROM:+1200
TZOFFSETTO:+1300
TZNAME:NZDT
DTSTART:20190928T140000
END:DAYLIGHT
END:VTIMEZONE
BEGIN:VEVENT
DTSTART;TZID=Pacific/Auckland:20191215T133000
DTEND;TZID=Pacific/Auckland:20191215T170000
DTSTAMP:20191223T103700
CREATED:20191129T085713Z
LAST-MODIFIED:20191129T085713Z
UID:1648-1576416600-1576429200@wryc.org.nz
SUMMARY:Informal Racing - Club Breakup - Whitby
DESCRIPTION:Informal racing followed by drinks\, prize-giving and breakup at the bar by Whitby lake. \n
URL:http://wryc.org.nz/event/informal-racing-club-breakup-whitby/
LOCATION:Whitby Lake\, Porirua\, Wellington\, New Zealand
CATEGORIES:Club Meeting,Tuning and Informal
END:VEVENT
END:VCALENDAR